BEGIN:VCALENDAR
VERSION:2.0
PRODID:-//fanfahrt.de FCA Auswärtsfahrten - ECPv6.15.20//NONSGML v1.0//EN
CALSCALE:GREGORIAN
METHOD:PUBLISH
X-WR-CALNAME:fanfahrt.de FCA Auswärtsfahrten
X-ORIGINAL-URL:https://www.fanfahrt.de
X-WR-CALDESC:Veranstaltungen für fanfahrt.de FCA Auswärtsfahrten
REFRESH-INTERVAL;VALUE=DURATION:PT1H
X-Robots-Tag:noindex
X-PUBLISHED-TTL:PT1H
BEGIN:VTIMEZONE
TZID:Europe/Berlin
BEGIN:DAYLIGHT
TZOFFSETFROM:+0100
TZOFFSETTO:+0200
TZNAME:CEST
DTSTART:20250330T010000
END:DAYLIGHT
BEGIN:STANDARD
TZOFFSETFROM:+0200
TZOFFSETTO:+0100
TZNAME:CET
DTSTART:20251026T010000
END:STANDARD
BEGIN:DAYLIGHT
TZOFFSETFROM:+0100
TZOFFSETTO:+0200
TZNAME:CEST
DTSTART:20260329T010000
END:DAYLIGHT
BEGIN:STANDARD
TZOFFSETFROM:+0200
TZOFFSETTO:+0100
TZNAME:CET
DTSTART:20261025T010000
END:STANDARD
BEGIN:DAYLIGHT
TZOFFSETFROM:+0100
TZOFFSETTO:+0200
TZNAME:CEST
DTSTART:20270328T010000
END:DAYLIGHT
BEGIN:STANDARD
TZOFFSETFROM:+0200
TZOFFSETTO:+0100
TZNAME:CET
DTSTART:20271031T010000
END:STANDARD
END:VTIMEZONE
BEGIN:VEVENT
DTSTART;TZID=Europe/Berlin:20260207T153000
DTEND;TZID=Europe/Berlin:20260207T173000
DTSTAMP:20260421T173125
CREATED:20250702T072903Z
LAST-MODIFIED:20260128T093904Z
UID:1174-1770478200-1770485400@www.fanfahrt.de
SUMMARY:21. Spieltag FSV Mainz 05
DESCRIPTION:
URL:https://www.fanfahrt.de/veranstaltung/21-spieltag-fsv-mainz-05/
LOCATION:Mewa Arena Mainz\, Eugen-Salomon-Straße 1\, Mainz\, Rheinland-Pfalz\, 55128\, Germany
CATEGORIES:Bundesliga
ATTACH;FMTTYPE=image/png:https://www.fanfahrt.de/wp-content/uploads/2025/12/IMG_6380-scaled.png
END:VEVENT
END:VCALENDAR