BEGIN:VCALENDAR
VERSION:2.0
PRODID:-//fanfahrt.de FCA Auswärtsfahrten - ECPv6.15.20//NONSGML v1.0//EN
CALSCALE:GREGORIAN
METHOD:PUBLISH
X-ORIGINAL-URL:https://www.fanfahrt.de
X-WR-CALDESC:Veranstaltungen für fanfahrt.de FCA Auswärtsfahrten
REFRESH-INTERVAL;VALUE=DURATION:PT1H
X-Robots-Tag:noindex
X-PUBLISHED-TTL:PT1H
BEGIN:VTIMEZONE
TZID:Europe/Berlin
BEGIN:DAYLIGHT
TZOFFSETFROM:+0100
TZOFFSETTO:+0200
TZNAME:CEST
DTSTART:20240331T010000
END:DAYLIGHT
BEGIN:STANDARD
TZOFFSETFROM:+0200
TZOFFSETTO:+0100
TZNAME:CET
DTSTART:20241027T010000
END:STANDARD
BEGIN:DAYLIGHT
TZOFFSETFROM:+0100
TZOFFSETTO:+0200
TZNAME:CEST
DTSTART:20250330T010000
END:DAYLIGHT
BEGIN:STANDARD
TZOFFSETFROM:+0200
TZOFFSETTO:+0100
TZNAME:CET
DTSTART:20251026T010000
END:STANDARD
BEGIN:DAYLIGHT
TZOFFSETFROM:+0100
TZOFFSETTO:+0200
TZNAME:CEST
DTSTART:20260329T010000
END:DAYLIGHT
BEGIN:STANDARD
TZOFFSETFROM:+0200
TZOFFSETTO:+0100
TZNAME:CET
DTSTART:20261025T010000
END:STANDARD
END:VTIMEZONE
BEGIN:VEVENT
DTSTART;TZID=Europe/Berlin:20251004T153000
DTEND;TZID=Europe/Berlin:20251004T173000
DTSTAMP:20260424T141821
CREATED:20250627T133436Z
LAST-MODIFIED:20250904T183412Z
UID:1108-1759591800-1759599000@www.fanfahrt.de
SUMMARY:6. Spieltag VfL Wolfsburg
DESCRIPTION:
URL:https://www.fanfahrt.de/veranstaltung/6-spieltag/
LOCATION:WWK Arena Augsburg\, Bürgermeister–Ulrich–Straße 90\, Augsburg\, Bayern\, 86199\, Germany
CATEGORIES:Bundesliga
END:VEVENT
BEGIN:VEVENT
DTSTART;TZID=Europe/Berlin:20251025T153000
DTEND;TZID=Europe/Berlin:20251025T173000
DTSTAMP:20260424T141821
CREATED:20250701T085731Z
LAST-MODIFIED:20250904T183618Z
UID:1131-1761406200-1761413400@www.fanfahrt.de
SUMMARY:8. Spieltag RB Leipzig
DESCRIPTION:
URL:https://www.fanfahrt.de/veranstaltung/8-spieltag/
LOCATION:WWK Arena Augsburg\, Bürgermeister–Ulrich–Straße 90\, Augsburg\, Bayern\, 86199\, Germany
CATEGORIES:Bundesliga
END:VEVENT
BEGIN:VEVENT
DTSTART;TZID=Europe/Berlin:20251031T203000
DTEND;TZID=Europe/Berlin:20251031T223000
DTSTAMP:20260424T141821
CREATED:20250701T085911Z
LAST-MODIFIED:20250904T183712Z
UID:1133-1761942600-1761949800@www.fanfahrt.de
SUMMARY:9. Spieltag Borussia Dortmund
DESCRIPTION:
URL:https://www.fanfahrt.de/veranstaltung/9-spieltag/
LOCATION:WWK Arena Augsburg\, Bürgermeister–Ulrich–Straße 90\, Augsburg\, Bayern\, 86199\, Germany
CATEGORIES:Bundesliga
END:VEVENT
END:VCALENDAR