BEGIN:VCALENDAR
VERSION:2.0
PRODID:-//fanfahrt.de FCA Auswärtsfahrten - ECPv6.15.20//NONSGML v1.0//EN
CALSCALE:GREGORIAN
METHOD:PUBLISH
X-ORIGINAL-URL:https://www.fanfahrt.de
X-WR-CALDESC:Veranstaltungen für fanfahrt.de FCA Auswärtsfahrten
REFRESH-INTERVAL;VALUE=DURATION:PT1H
X-Robots-Tag:noindex
X-PUBLISHED-TTL:PT1H
BEGIN:VTIMEZONE
TZID:Europe/Berlin
BEGIN:DAYLIGHT
TZOFFSETFROM:+0100
TZOFFSETTO:+0200
TZNAME:CEST
DTSTART:20250330T010000
END:DAYLIGHT
BEGIN:STANDARD
TZOFFSETFROM:+0200
TZOFFSETTO:+0100
TZNAME:CET
DTSTART:20251026T010000
END:STANDARD
BEGIN:DAYLIGHT
TZOFFSETFROM:+0100
TZOFFSETTO:+0200
TZNAME:CEST
DTSTART:20260329T010000
END:DAYLIGHT
BEGIN:STANDARD
TZOFFSETFROM:+0200
TZOFFSETTO:+0100
TZNAME:CET
DTSTART:20261025T010000
END:STANDARD
BEGIN:DAYLIGHT
TZOFFSETFROM:+0100
TZOFFSETTO:+0200
TZNAME:CEST
DTSTART:20270328T010000
END:DAYLIGHT
BEGIN:STANDARD
TZOFFSETFROM:+0200
TZOFFSETTO:+0100
TZNAME:CET
DTSTART:20271031T010000
END:STANDARD
END:VTIMEZONE
BEGIN:VEVENT
DTSTART;TZID=Europe/Berlin:20260115T203000
DTEND;TZID=Europe/Berlin:20260115T223000
DTSTAMP:20260422T204910
CREATED:20250701T175412Z
LAST-MODIFIED:20251105T160825Z
UID:1156-1768509000-1768516200@www.fanfahrt.de
SUMMARY:17. Spieltag 1. FC Union Berlin
DESCRIPTION:
URL:https://www.fanfahrt.de/veranstaltung/17-spieltag/
LOCATION:WWK Arena Augsburg\, Bürgermeister–Ulrich–Straße 90\, Augsburg\, Bayern\, 86199\, Germany
CATEGORIES:Bundesliga
END:VEVENT
BEGIN:VEVENT
DTSTART;TZID=Europe/Berlin:20260118T173000
DTEND;TZID=Europe/Berlin:20260118T193000
DTSTAMP:20260422T204910
CREATED:20250702T071053Z
LAST-MODIFIED:20251105T160857Z
UID:1166-1768757400-1768764600@www.fanfahrt.de
SUMMARY:18. Spieltag SC Freiburg
DESCRIPTION:
URL:https://www.fanfahrt.de/veranstaltung/18-spieltag/
LOCATION:WWK Arena Augsburg\, Bürgermeister–Ulrich–Straße 90\, Augsburg\, Bayern\, 86199\, Germany
CATEGORIES:Bundesliga
END:VEVENT
BEGIN:VEVENT
DTSTART;TZID=Europe/Berlin:20260131T153000
DTEND;TZID=Europe/Berlin:20260131T153000
DTSTAMP:20260422T204910
CREATED:20250702T071958Z
LAST-MODIFIED:20251219T131355Z
UID:1171-1769873400-1769873400@www.fanfahrt.de
SUMMARY:20. Spieltag FC St. Pauli
DESCRIPTION:
URL:https://www.fanfahrt.de/veranstaltung/20-spieltag/
LOCATION:WWK Arena Augsburg\, Bürgermeister–Ulrich–Straße 90\, Augsburg\, Bayern\, 86199\, Germany
CATEGORIES:Bundesliga
END:VEVENT
END:VCALENDAR